BEGIN:VCALENDAR
VERSION:2.0
PRODID:-//Critical Distance Centre for Curators - ECPv6.15.17.1//NONSGML v1.0//EN
CALSCALE:GREGORIAN
METHOD:PUBLISH
X-ORIGINAL-URL:https://criticaldistance.ca
X-WR-CALDESC:Events for Critical Distance Centre for Curators
REFRESH-INTERVAL;VALUE=DURATION:PT1H
X-Robots-Tag:noindex
X-PUBLISHED-TTL:PT1H
BEGIN:VTIMEZONE
TZID:America/Toronto
BEGIN:DAYLIGHT
TZOFFSETFROM:-0500
TZOFFSETTO:-0400
TZNAME:EDT
DTSTART:20220313T070000
END:DAYLIGHT
BEGIN:STANDARD
TZOFFSETFROM:-0400
TZOFFSETTO:-0500
TZNAME:EST
DTSTART:20221106T060000
END:STANDARD
BEGIN:DAYLIGHT
TZOFFSETFROM:-0500
TZOFFSETTO:-0400
TZNAME:EDT
DTSTART:20230312T070000
END:DAYLIGHT
BEGIN:STANDARD
TZOFFSETFROM:-0400
TZOFFSETTO:-0500
TZNAME:EST
DTSTART:20231105T060000
END:STANDARD
BEGIN:DAYLIGHT
TZOFFSETFROM:-0500
TZOFFSETTO:-0400
TZNAME:EDT
DTSTART:20240310T070000
END:DAYLIGHT
BEGIN:STANDARD
TZOFFSETFROM:-0400
TZOFFSETTO:-0500
TZNAME:EST
DTSTART:20241103T060000
END:STANDARD
END:VTIMEZONE
BEGIN:VEVENT
DTSTART;TZID=America/Toronto:20230624T190000
DTEND;TZID=America/Toronto:20230624T220000
DTSTAMP:20260421T042843
CREATED:20230602T195729Z
LAST-MODIFIED:20240314T200642Z
UID:18818-1687633200-1687644000@criticaldistance.ca
SUMMARY:Concert: El Rass الراس | Toronto
DESCRIPTION:El Rass الراس in concert \nSaturday\, June 24th\, 2023\n7:00 pm\nAdelaide Hall \nCritical Distance is thrilled to co-present El Rass in concert with MARSM Canada at Adelaide Hall on June 24\, as part of the exhibition Garden of Broken Shadows\, curated by Fatma Hendawy Yehia.  As part of his first tour in Canada\, El Rass\, known for his critical lyrics and performances\, will engage with the exhibition’s topics around identity\, immigration and adaptation through a vernacular yet deeply philosophical language. Tickets on sale through MARSM Canada. \nThis event is part of the public programming of the exhibition Garden of Broken Shadows. \nAbout the artist \nMazen El Sayed (aka El Rass) is a rapper and music producer from Tripoli\, Lebanon. His discography includes 8 albums\, the most recent is titled “Ard El Khof” \, as well as more than 200 singles in collaboration with other music-makers and rappers from the region. El Rass’s work has earned recognition and visibility in the Arab world\, specifically for his dense lyrical content\, versatility of styles and subject matter\, and his personal sonic approach. El Sayed worked as a journalist before devoting his time to music\, and has been described as a subversive voice inspired from traditional and contemporary expression\, from the spiritual and the worldly. \nAccessibility \nAdelaide Hall is located in the lower level of 250 Adelaide Street West. The entrance is through the alley next to 26 Duncan Street West (between Nelson St. & Adelaide St. West). The venue can only be accessed via two flights of stairs (4-5 steps each) connected by one landing.  \n– \nCritical Distance thanks co-presenter MARSM Canada for partnering on programming for El Rass. Garden of Broken Shadows is made possible through the generous support of the Canada Council for the Arts. Critical Distance gratefully acknowledges funding support from the Ontario Arts Council\, an agency of the Government of Ontario. \n 
URL:https://criticaldistance.ca/event/concert-el-rass-%d8%a7%d9%84%d8%b1%d8%a7%d8%b3-toronto/
LOCATION:Adelaide Hall\, 250 Adelaide Street West\, Toronto\, Ontario\, Canada
CATEGORIES:Other Events
ATTACH;FMTTYPE=image/jpeg:https://criticaldistance.ca/assets/2023/06/ElRass_web-e1685735967853.jpg
END:VEVENT
END:VCALENDAR